BEGIN:VCALENDAR
VERSION:2.0
PRODID:spatie/icalendar-generator
DESCRIPTION:Events from Soledad General Plan 2045
X-WR-CALDESC:Events from Soledad General Plan 2045
REFRESH-INTERVAL;VALUE=DURATION:PT1440M
X-PUBLISHED-TTL:PT1440M
BEGIN:VTIMEZONE
TZID:America/Los_Angeles
BEGIN:STANDARD
DTSTART:20241103T020000Z
TZOFFSETFROM:-0700
TZOFFSETTO:-0800
END:STANDARD
BEGIN:DAYLIGHT
DTSTART:20250309T020000Z
TZOFFSETFROM:-0800
TZOFFSETTO:-0700
END:DAYLIGHT
BEGIN:STANDARD
DTSTART:20251102T020000Z
TZOFFSETFROM:-0700
TZOFFSETTO:-0800
END:STANDARD
END:VTIMEZONE
BEGIN:VTIMEZONE
TZID:UTC
BEGIN:STANDARD
DTSTART:20250724T101012Z
TZOFFSETFROM:+0000
TZOFFSETTO:+0000
END:STANDARD
END:VTIMEZONE
BEGIN:VEVENT
UID:27-24
DTSTAMP:20260420T101012Z
SUMMARY:Planning Commission Meeting - Draft Circulation and Land Use Maps
LOCATION:City Council Chambers 248 Main Street  Soledad CA 93960
ORGANIZER;CN=Cliff Lau:MAILTO:clau@placeworks.com
DTSTART;TZID=America/Los_Angeles:20250612T180000
DTEND;TZID=America/Los_Angeles:20250612T200000
X-ALT-DESC;FMTTYPE=TEXT/HTML:At this meeting\, the Planning Commission will
  review the draft circulation and land use maps for the Siempre Soledad Ge
 neral Plan 2045. Meeting Materials Draft Land Use Map Draft Circulation Ma
 p Proposed New Land Use Designations
CATEGORIES:city-council-planning-commission
URL;VALUE=URI:https://www.soledadgeneralplan2045.com/es/mc-events/planning-
 commission-meeting-draft-circulation-and-land-use-maps/
METHOD:PUBLISH
END:VEVENT
END:VCALENDAR